BEGIN:VCALENDAR
VERSION:2.0
PRODID:-//Kludt-Williams Family Winery - ECPv6.15.20//NONSGML v1.0//EN
CALSCALE:GREGORIAN
METHOD:PUBLISH
X-WR-CALNAME:Kludt-Williams Family Winery
X-ORIGINAL-URL:https://www.kwfamilywinery.com
X-WR-CALDESC:Events for Kludt-Williams Family Winery
REFRESH-INTERVAL;VALUE=DURATION:PT1H
X-Robots-Tag:noindex
X-PUBLISHED-TTL:PT1H
BEGIN:VTIMEZONE
TZID:UTC
BEGIN:STANDARD
TZOFFSETFROM:+0000
TZOFFSETTO:+0000
TZNAME:UTC
DTSTART:20250101T000000
END:STANDARD
END:VTIMEZONE
BEGIN:VEVENT
DTSTART;TZID=UTC:20260323T180000
DTEND;TZID=UTC:20260323T200000
DTSTAMP:20260421T160040
CREATED:20260319T211133Z
LAST-MODIFIED:20260319T211133Z
UID:408-1774288800-1774296000@www.kwfamilywinery.com
SUMMARY:KW BINGO NIGHT!
DESCRIPTION:You ready to play some BINGO?! \nRSVP and come play bingo with us at the KW Family Winery Tasting Room\, Monday\, March 23rd. We are staying open late for this event\, and have limited space. Please make sure to email at EVENTS@KWFAMILYWINERY.COM if you would like to attend. We will reach out to confirm your seat. \n$25 general\, $20 Wine Club Member\nIncludes a glass of wine and four bingo cards.
URL:https://www.kwfamilywinery.com/event/kw-bingo-night/
ATTACH;FMTTYPE=image/jpeg:https://www.kwfamilywinery.com/wp-content/uploads/2026/03/1-e1773954683964.jpg
END:VEVENT
BEGIN:VEVENT
DTSTART;TZID=UTC:20260327T180000
DTEND;TZID=UTC:20260327T200000
DTSTAMP:20260421T160040
CREATED:20260324T163058Z
LAST-MODIFIED:20260324T163058Z
UID:413-1774634400-1774641600@www.kwfamilywinery.com
SUMMARY:Friday Live Music
DESCRIPTION:Enjoy live music at the KW Family Winery Tasting Room in beautiful Hyde Park each Friday at 6pm. Get here early to grab a bottle of wine and some light bites then head to the patio to find a spot.
URL:https://www.kwfamilywinery.com/event/friday-live-music/
ATTACH;FMTTYPE=image/jpeg:https://www.kwfamilywinery.com/wp-content/uploads/2026/03/Bring-or-a-lawn-chair-or-get-here-early-to-snag-a-seat-on-the-patio.-Enjoy-wine-beer-and-NA-drinks-along-with-our-delicious-food-menu.-Be-ready-for-all-the-fun-spring-weather-1-e1774369844141.jpg
END:VEVENT
BEGIN:VEVENT
DTSTART;TZID=UTC:20260403T180000
DTEND;TZID=UTC:20260403T200000
DTSTAMP:20260421T160040
CREATED:20260330T220613Z
LAST-MODIFIED:20260330T220613Z
UID:416-1775239200-1775246400@www.kwfamilywinery.com
SUMMARY:Friday Live Music
DESCRIPTION:Enjoy live music at the KW Family Winery Tasting Room in beautiful Hyde Park each Friday at 6pm. Get here early to grab a bottle of wine and food then head to the patio to find a spot. \nNo outside food or beverages are allowed on the patio or in the Tasting Room. If you have a food allergy please let us know ahead of time.
URL:https://www.kwfamilywinery.com/event/friday-live-music-2/
ATTACH;FMTTYPE=image/jpeg:https://www.kwfamilywinery.com/wp-content/uploads/2026/03/Bring-or-a-lawn-chair-or-get-here-early-to-snag-a-seat-on-the-patio.-Enjoy-wine-beer-and-NA-drinks-along-with-our-delicious-food-menu.-Be-ready-for-all-the-fun-spring-weather-2-e1774908343966.jpg
END:VEVENT
BEGIN:VEVENT
DTSTART;TZID=UTC:20260410T180000
DTEND;TZID=UTC:20260410T200000
DTSTAMP:20260421T160040
CREATED:20260410T175041Z
LAST-MODIFIED:20260410T175041Z
UID:428-1775844000-1775851200@www.kwfamilywinery.com
SUMMARY:Friday Live Music
DESCRIPTION:Enjoy live music at the KW Family Winery Tasting Room in beautiful Hyde Park each Friday at 6pm. Get here early to grab a bottle of wine and food then head to the patio to find a spot. \nNo outside food or beverages are allowed on the patio or in the Tasting Room. If you have a food allergy please let us know ahead of time.
URL:https://www.kwfamilywinery.com/event/friday-live-music-3/
ATTACH;FMTTYPE=image/jpeg:https://www.kwfamilywinery.com/wp-content/uploads/2026/03/Bring-or-a-lawn-chair-or-get-here-early-to-snag-a-seat-on-the-patio.-Enjoy-wine-beer-and-NA-drinks-along-with-our-delicious-food-menu.-Be-ready-for-all-the-fun-spring-weather-3-e1775843424969.jpg
END:VEVENT
BEGIN:VEVENT
DTSTART;TZID=UTC:20260412T170000
DTEND;TZID=UTC:20260412T200000
DTSTAMP:20260421T160040
CREATED:20260330T221829Z
LAST-MODIFIED:20260330T221829Z
UID:423-1776013200-1776024000@www.kwfamilywinery.com
SUMMARY:KW Masters Wine Club Pick-Up Party
DESCRIPTION:⛳️ KW MASTERS WINE CLUB PICK-UP PARTY 🍷 \nJoin us for our next Member Pick-Up Party\, Sunday\, April 12th.\nThe Masters Golf tournament last round is this day\, so we plan to par-tee like only golfers can. \n🍷 Sunday\, April 12th\, 5pm to 8pm\n🌭 Golf Grub\n🏆 Raffles\, Prizes & Putting Competitions\n🎶 Live Music\n🤩 This is a Member Only Event! \nRSVP for the party today by emailing events@kwfamilywinery.com to let us know you will be attending\, make sure to include your first and last name as well as your phone number!
URL:https://www.kwfamilywinery.com/event/kw-masters-wine-club-pick-up-party/
ATTACH;FMTTYPE=image/png:https://www.kwfamilywinery.com/wp-content/uploads/2026/03/Pink-and-Green-Vintage-Women-Golf-Logo-e1774909054152.png
END:VEVENT
BEGIN:VEVENT
DTSTART;TZID=UTC:20260417T180000
DTEND;TZID=UTC:20260417T200000
DTSTAMP:20260421T160040
CREATED:20260410T181839Z
LAST-MODIFIED:20260410T181839Z
UID:431-1776448800-1776456000@www.kwfamilywinery.com
SUMMARY:Friday Live Music
DESCRIPTION:Enjoy live music at the KW Family Winery Tasting Room in beautiful Hyde Park each Friday at 6pm. Get here early to grab a bottle of wine and food then head to the patio to find a spot. \nNo outside food or beverages are allowed on the patio or in the Tasting Room. If you have a food allergy please let us know ahead of time.
URL:https://www.kwfamilywinery.com/event/friday-live-music-4/
ATTACH;FMTTYPE=image/jpeg:https://www.kwfamilywinery.com/wp-content/uploads/2026/04/4-e1775845103205.jpg
END:VEVENT
BEGIN:VEVENT
DTSTART;TZID=UTC:20260420T180000
DTEND;TZID=UTC:20260420T200000
DTSTAMP:20260421T160040
CREATED:20260330T221458Z
LAST-MODIFIED:20260330T221458Z
UID:420-1776708000-1776715200@www.kwfamilywinery.com
SUMMARY:Trivia Night
DESCRIPTION:Think you’ve got what it takes?! Come show off your mad brain skills Monday\, April 20th starting at 6pm. Get here early for wine and food and to snag a good spot. Weather permitting we will be seating inside and on the patio. \nNo outside food or drinks allowed onsite. Please contact us if you have special food needs.
URL:https://www.kwfamilywinery.com/event/trivia-night/
ATTACH;FMTTYPE=image/jpeg:https://www.kwfamilywinery.com/wp-content/uploads/2026/03/Green-Pink-Vintage-Retro-Typographic-Movie-Night-Poster-e1774908819694.jpg
END:VEVENT
BEGIN:VEVENT
DTSTART;TZID=UTC:20260424T180000
DTEND;TZID=UTC:20260424T200000
DTSTAMP:20260421T160040
CREATED:20260410T182037Z
LAST-MODIFIED:20260410T182037Z
UID:436-1777053600-1777060800@www.kwfamilywinery.com
SUMMARY:Friday Live Music
DESCRIPTION:Enjoy live music at the KW Family Winery Tasting Room in beautiful Hyde Park each Friday at 6pm. Get here early to grab a bottle of wine and food then head to the patio to find a spot. \nNo outside food or beverages are allowed on the patio or in the Tasting Room. If you have a food allergy please let us know ahead of time.
URL:https://www.kwfamilywinery.com/event/friday-live-music-5/
ATTACH;FMTTYPE=image/jpeg:https://www.kwfamilywinery.com/wp-content/uploads/2026/04/5-e1775845211363.jpg
END:VEVENT
END:VCALENDAR