BEGIN:VCALENDAR
VERSION:2.0
PRODID:-//Kludt-Williams Family Winery - ECPv6.15.20//NONSGML v1.0//EN
CALSCALE:GREGORIAN
METHOD:PUBLISH
X-WR-CALNAME:Kludt-Williams Family Winery
X-ORIGINAL-URL:https://www.kwfamilywinery.com
X-WR-CALDESC:Events for Kludt-Williams Family Winery
REFRESH-INTERVAL;VALUE=DURATION:PT1H
X-Robots-Tag:noindex
X-PUBLISHED-TTL:PT1H
BEGIN:VTIMEZONE
TZID:UTC
BEGIN:STANDARD
TZOFFSETFROM:+0000
TZOFFSETTO:+0000
TZNAME:UTC
DTSTART:20240101T000000
END:STANDARD
END:VTIMEZONE
BEGIN:VEVENT
DTSTART;TZID=UTC:20250629T170000
DTEND;TZID=UTC:20250629T200000
DTSTAMP:20260421T212628
CREATED:20250625T192031Z
LAST-MODIFIED:20250625T192031Z
UID:308-1751216400-1751227200@www.kwfamilywinery.com
SUMMARY:Hello Summer Wine Club Pick-Up Social
DESCRIPTION:☀️ Hello Summer Wine Club Pick-Up Social\n📆 Sunday\, June 29th\, 5 to 8pm\n🎶 Live Music by Olivia Frost\n🍕 Delicious Pizzetas\, Snacks & Sweets\n🍷 Wine Wine Wine\n🎯 Corn Hole\, Raffles & Prizes \n🎟️ FREE for Wine Club Members\, RSVP Online!
URL:https://www.kwfamilywinery.com/event/hello-summer-wine-club-pick-up-social/
LOCATION:Kludt-Williams Family Winery\, 1611 N 13th Street\, Boise\, ID\, 83712\, United States
ATTACH;FMTTYPE=image/jpeg:https://www.kwfamilywinery.com/wp-content/uploads/2025/04/83502fd74f940b4a533d41a4ac92701143e17a26.jpg
END:VEVENT
END:VCALENDAR